BEGIN:VCALENDAR
VERSION:2.0
PRODID:-//friendica calendar export//0.1//EN
BEGIN:VEVENT
UID:33
DTSTAMP:20211022T131346Z
DTSTART:20211029T131500Z
SUMMARY:Test event rss 2021-10-29 21:15 +08:00
END:VEVENT
BEGIN:VEVENT
UID:43
DTSTAMP:20221122T233532Z
DTSTART:20221124T053000Z
DTEND:20221124T183000Z
SUMMARY:Public event (Thanksgiving)
END:VEVENT
BEGIN:VEVENT
UID:57
DTSTAMP:20231105T135428Z
DTSTART:20231105T135500Z
DTEND:20231105T141000Z
SUMMARY:Test public event
END:VEVENT
BEGIN:VEVENT
UID:58
DTSTAMP:20231105T140544Z
DTSTART:20231105T140500Z
DTEND:20231105T142000Z
SUMMARY:Test public event 2
END:VEVENT
END:VCALENDAR
